BEGIN:VCALENDAR
VERSION:2.0
PRODID:-//eventon.com NONSGML v1.0//EN
BEGIN:VEVENT
UID:69e76782cd1bb
DTSTAMP:20260421T120314
DTSTART:20171215T190000Z
DTEND:20171215T210000Z
LOCATION:Springdale Beer 102 Clinton St Framingham MA 01702 
SUMMARY:Paints and Pints
DESCRIPTION: At Paint and Pints\,  have fun\,  sip a beer and take home your masterpiece. All materials will be provided in this Winter Themed Edition! Tickets are $40 and include instructions\,  all materials for your masterpiece and one Springdale beer. Link posted to reserve your spot! Sorin Bica is a contemporary[..]
END:VEVENT
END:VCALENDAR