BEGIN:VCALENDAR
VERSION:2.0
PRODID:-//eventon.com NONSGML v1.0//EN
BEGIN:VEVENT
UID:69e4ea9f83f52
DTSTAMP:20260419T144551
DTSTART:20180226T200000Z
DTEND:20180226T220000Z
LOCATION:
SUMMARY:Bingo Night
DESCRIPTION: Bingo Night sponsored by Springdale & Jack’s Abby - brewery swag and beer prizes!
END:VEVENT
END:VCALENDAR