BEGIN:VCALENDAR
VERSION:2.0
PRODID:-//eventon.com NONSGML v1.0//EN
BEGIN:VEVENT
UID:69e73456187f4
DTSTAMP:20260421T082454
DTSTART:20180220T170000Z
DTEND:20180220T220000Z
LOCATION:rail trail flatbread co. 33 Main St Hudson MA 01749 
SUMMARY:Full Tap Takeover
DESCRIPTION: Jack's Abby and Springdale will be at Rail Trail Flatbread Co on February 20th for a FULL tap takeover! With twenty lines\,  we will be pouring 10 of Jack's and 10 of Springdale! We will be pulling out all the stops\,  you do not want to miss this.
END:VEVENT
END:VCALENDAR