BEGIN:VCALENDAR
VERSION:2.0
PRODID:-//eventon.com NONSGML v1.0//EN
BEGIN:VEVENT
UID:69e6058391153
DTSTAMP:20260420T105251
DTSTART:20180505T101500Z
DTEND:20180505T113000Z
LOCATION:Springdale Beer 102 Clinton St Framingham MA 01702 
SUMMARY:Barrel Room Yoga
DESCRIPTION: Barrel Room Yoga provides an opportunity to use mindful movement and breathing to reduce stress\,  invigorate the body and create a clarity of mind. Drawn back to the present moment\,  can enhance the beer tasting experience allowing you to notice and appreciate the subtle nuances of our barrel-aged beer. Appropriate[..]
END:VEVENT
END:VCALENDAR