BEGIN:VCALENDAR
VERSION:2.0
PRODID:-//eventon.com NONSGML v1.0//EN
BEGIN:VEVENT
UID:69e4cd8c91150
DTSTAMP:20260419T124148
DTSTART:20180712T180000Z
DTEND:20180712T200000Z
LOCATION:Some Good Beer 9 E. 8th St New York NY 10003 
SUMMARY:Jack's and Springdale Tasting [NY]
DESCRIPTION: Stop by for a Jacks Abby/ Springdale Tasting at Some Good Beer! We will Be Sampling Out Some old favorites and some new classics!
END:VEVENT
END:VCALENDAR