BEGIN:VCALENDAR
VERSION:2.0
PRODID:-//eventon.com NONSGML v1.0//EN
BEGIN:VEVENT
UID:69e4ceb20dc5d
DTSTAMP:20260419T124642
DTSTART:20190213T170000Z
DTEND:20190213T200000Z
LOCATION:Springdale Barrel Room\,  102 Clinton Street\,  Framingham\,  MA 
SUMMARY:Neighbor Night w/ Newton Wellesley Cancer Research Marathon Team
DESCRIPTION: Join us for a Neighbor Night to support Newton Wellesley Cancer Research Marathon Team!
END:VEVENT
END:VCALENDAR