BEGIN:VCALENDAR
VERSION:2.0
PRODID:-//eventon.com NONSGML v1.0//EN
BEGIN:VEVENT
UID:69e605c50ea87
DTSTAMP:20260420T105357
DTSTART:20190519T150000Z
DTEND:20190519T153000Z
LOCATION:Springdale Barrel Room\,  102 Clinton Street\,  Framingham\,  MA 
SUMMARY:Behind The Barrels Tour
DESCRIPTION: Come learn what we're really doing over here at Springdale! We will guide through a tour of the space while discussing our history and where we're going!
END:VEVENT
END:VCALENDAR