BEGIN:VCALENDAR
VERSION:2.0
PRODID:-//eventon.com NONSGML v1.0//EN
BEGIN:VEVENT
UID:69e605abceccd
DTSTAMP:20260420T105331
DTSTART:20191026T101500Z
DTEND:20191026T113000Z
LOCATION:Springdale Barrel Room\,  102 Clinton Street\,  Framingham\,  MA 
SUMMARY:Barrel Room Yoga at Springdale Beer
DESCRIPTION: Barrel Room Yoga provides an opportunity to use mindful movement and breathing to reduce stress\,  invigorate the body\,  and create a clarity of mind. Drawn back to the present moment\,  can enhance the beer tasting experience allowing you to notice and appreciate the subtle nuances of our barrel-aged beer. An[..]
END:VEVENT
END:VCALENDAR