BEGIN:VCALENDAR
VERSION:2.0
PRODID:-//eventon.com NONSGML v1.0//EN
BEGIN:VEVENT
UID:69e738af333e9
DTSTAMP:20260421T084327
DTSTART:20200222T140000Z
DTEND:20200222T170000Z
LOCATION:Scottie&#039;s Pub 202 Pleasant St\,  Fall River\,  Massachusetts 02721
SUMMARY:MA- Apps & Taps 2020
DESCRIPTION: Join us for Apps & Taps Saturday Feb 22nd from 2-5 PM! We will have 13 Breweries sampling their brews and also sampling appetizers perfectly paired with their brews! There will be LIVE entertainment by Keats & Company\,  a free photo booth and tons of Brewery Swag giveaways and a[..]
END:VEVENT
END:VCALENDAR