BEGIN:VCALENDAR
VERSION:2.0
PRODID:-//eventon.com NONSGML v1.0//EN
BEGIN:VEVENT
UID:69e84e3511472
DTSTAMP:20260422T042733
DTSTART:20170915T170000Z
DTEND:20170915T210000Z
LOCATION:Springdale Beer 102 Clinton St Framingham MA 01702 
SUMMARY:Home Grown Food Truck Pop-Up
DESCRIPTION: Join us on Friday\,  9/15 for our first pop-up with HomeGrown&Co Food Truck! Home Grown and Co will be in the Barrel Room serving some delicious offerings that incorporate and are inspired by our region's delicious local produce. Check back here for their menu as we get closer to the[..]
END:VEVENT
END:VCALENDAR